BEGIN:VCALENDAR
VERSION:2.0
CALSCALE:GREGORIAN
PRODID:adamgibbons/ics
METHOD:PUBLISH
X-PUBLISHED-TTL:PT1H
BEGIN:VEVENT
UID:nWUKgoxlxr4eTMIjuWMWn
SUMMARY:Ballada - Diada de Sant Joan
DTSTAMP:20260423T145707Z
DTSTART:20240624T190000
DESCRIPTION:\nDescripció: Cobla Rossinyolets\nCobles: La Flama de Farners i
	 La Principal de Tarragona
LOCATION:CASTELLÓ D'EMPÚRIES
DURATION:PT2H
END:VEVENT
END:VCALENDAR
