BEGIN:VCALENDAR
VERSION:2.0
CALSCALE:GREGORIAN
PRODID:adamgibbons/ics
METHOD:PUBLISH
X-PUBLISHED-TTL:PT1H
BEGIN:VEVENT
UID:tO0h2GXYbQNWBC3F5azSA
SUMMARY:Ballada - Diada Nacional de Catalunya
DTSTAMP:20260423T145809Z
DTSTART:20240910T160000
DESCRIPTION:\nDescripció: Cobla del Col·legi Santa Maria de Blanes\nCobles:
	 La Flama de Farners i La Principal de Tarragona
LOCATION:RIUDELLOTS DE LA SELVA
DURATION:PT2H
END:VEVENT
END:VCALENDAR
