BEGIN:VCALENDAR
VERSION:2.0
CALSCALE:GREGORIAN
PRODID:adamgibbons/ics
METHOD:PUBLISH
X-PUBLISHED-TTL:PT1H
BEGIN:VEVENT
UID:yXKhKsTZ97-0_-xwu9GF1
SUMMARY:Concert - Festa Major
DTSTAMP:20260423T145700Z
DTSTART:20240909T131500
DESCRIPTION:\nDescripció: Cobla Montgrins\nCobles: La Flama de Farners i La
	 Principal de Tarragona
LOCATION:SANT JOAN DE LES ABADESSES
DURATION:PT2H
END:VEVENT
END:VCALENDAR
