BEGIN:VCALENDAR
VERSION:2.0
CALSCALE:GREGORIAN
PRODID:adamgibbons/ics
METHOD:PUBLISH
X-PUBLISHED-TTL:PT1H
BEGIN:VEVENT
UID:Qld3iiPKNkivtzPG6ee2i
SUMMARY:Ballada - Diada de Meritxell
DTSTAMP:20260423T145758Z
DTSTART:20240908T121500
DESCRIPTION:\nDescripció: Cobla Osona\nCobles: \, Ciutat de Cornellà\, Reus
	 Jove i Conjunt
LOCATION:ANDORRA LA VELLA
DURATION:PT2H
END:VEVENT
END:VCALENDAR
