BEGIN:VCALENDAR
VERSION:2.0
CALSCALE:GREGORIAN
PRODID:adamgibbons/ics
METHOD:PUBLISH
X-PUBLISHED-TTL:PT1H
BEGIN:VEVENT
UID:qL6q5pdFnXp1tZMyXaIhp
SUMMARY:Ballada
DTSTAMP:20260423T150441Z
DTSTART:20240922T183000
DESCRIPTION:\nDescripció: La Nova Vallès\nCobles: Ciutat de Terrassa i La F
	lama de Farners
LOCATION:SABADELL
DURATION:PT2H
END:VEVENT
END:VCALENDAR
