BEGIN:VCALENDAR
VERSION:2.0
CALSCALE:GREGORIAN
PRODID:adamgibbons/ics
METHOD:PUBLISH
X-PUBLISHED-TTL:PT1H
BEGIN:VEVENT
UID:-HB1Z3tBU7soIbAwxrjB7
SUMMARY:Ballada - Commemoració al Monument
DTSTAMP:20260423T145619Z
DTSTART:20240928T180000
DESCRIPTION:\nDescripció: Cobla Tàrrega\nCobles: \, Ciutat de Cornellà\, Re
	us Jove i Conjunt
LOCATION:MOLLERUSSA
DURATION:PT2H
END:VEVENT
END:VCALENDAR
