BEGIN:VCALENDAR
VERSION:2.0
CALSCALE:GREGORIAN
PRODID:adamgibbons/ics
METHOD:PUBLISH
X-PUBLISHED-TTL:PT1H
BEGIN:VEVENT
UID:2kLYk-f8nruoq78_k1J6u
SUMMARY:Concert de cobla - Festa Major
DTSTAMP:20260423T145756Z
DTSTART:20240929T120000
DESCRIPTION:\nDescripció: Cobla La Principal de la Bisbal\nCobles: La Flama
	 de Farners i La Principal de Tarragona
LOCATION:RIUDELLOTS DE LA SELVA
DURATION:PT2H
END:VEVENT
END:VCALENDAR
