BEGIN:VCALENDAR
VERSION:2.0
CALSCALE:GREGORIAN
PRODID:adamgibbons/ics
METHOD:PUBLISH
X-PUBLISHED-TTL:PT1H
BEGIN:VEVENT
UID:YmTmk_xn-yOJYbdGp20km
SUMMARY:Ballada - Festa Major
DTSTAMP:20260423T145810Z
DTSTART:20240923T170000
DESCRIPTION:\nDescripció: Lluïsos Cobla\nCobles: La Flama de Farners i La P
	rincipal de Tarragona
LOCATION:SANT PERE DE TORELLÓ
DURATION:PT2H
END:VEVENT
END:VCALENDAR
