BEGIN:VCALENDAR
VERSION:2.0
CALSCALE:GREGORIAN
PRODID:adamgibbons/ics
METHOD:PUBLISH
X-PUBLISHED-TTL:PT1H
BEGIN:VEVENT
UID:zS3blpj6OlAX2xJgtdL2j
SUMMARY:Ballada - Setmana de la Vellesa
DTSTAMP:20260423T145756Z
DTSTART:20241019T110000
DESCRIPTION:\nDescripció: Cobla Principal del Llobregat\nCobles: \, Ciutat 
	de Cornellà\, Reus Jove i Conjunt
LOCATION:CABRERA DE MAR
DURATION:PT2H
END:VEVENT
END:VCALENDAR
