BEGIN:VCALENDAR
VERSION:2.0
CALSCALE:GREGORIAN
PRODID:adamgibbons/ics
METHOD:PUBLISH
X-PUBLISHED-TTL:PT1H
BEGIN:VEVENT
UID:rBzkjKm30DZrn86j7c-DP
SUMMARY:Aplec d'Artesa de Segre - Ballada matinal
DTSTAMP:20260423T145708Z
DTSTART:20241123T113000
DESCRIPTION:\nDescripció: Cobla Principal del Llobregat\nCobles: \, Ciutat 
	de Cornellà\, Reus Jove i Conjunt
LOCATION:ARTESA DE SEGRE
DURATION:PT2H
END:VEVENT
END:VCALENDAR
