BEGIN:VCALENDAR
VERSION:2.0
CALSCALE:GREGORIAN
PRODID:adamgibbons/ics
METHOD:PUBLISH
X-PUBLISHED-TTL:PT1H
BEGIN:VEVENT
UID:tgRNFYsW9fKFXAh1uRZiC
SUMMARY:Concert de cobla
DTSTAMP:20260423T145610Z
DTSTART:20241010T203000
DESCRIPTION:\nDescripció: Cobla La Principal de la Bisbal\nCobles: La Flama
	 de Farners i La Principal de Tarragona
LOCATION:SANT GREGORI
DURATION:PT2H
END:VEVENT
END:VCALENDAR
