BEGIN:VCALENDAR
VERSION:2.0
CALSCALE:GREGORIAN
PRODID:adamgibbons/ics
METHOD:PUBLISH
X-PUBLISHED-TTL:PT1H
BEGIN:VEVENT
UID:KdnydZqPiHmd9-FooInxu
SUMMARY:Ballada - Castanyada
DTSTAMP:20260423T145756Z
DTSTART:20241017T170000
DESCRIPTION:\nDescripció: Cobla Flama de Farners\nCobles: \, Ciutat de Corn
	ellà\, Reus Jove i Conjunt
LOCATION:BESALÚ
DURATION:PT2H
END:VEVENT
END:VCALENDAR
