BEGIN:VCALENDAR
VERSION:2.0
CALSCALE:GREGORIAN
PRODID:adamgibbons/ics
METHOD:PUBLISH
X-PUBLISHED-TTL:PT1H
BEGIN:VEVENT
UID:w7LRjVGECqwr6N3py5hf7
SUMMARY:Castanyada sardanista
DTSTAMP:20260423T145351Z
DTSTART:20241026T183000
DESCRIPTION:\nDescripció: Cobla Contemporània\nCobles: \, Ciutat de Cornell
	à\, Reus Jove i Conjunt
LOCATION:SITGES
DURATION:PT2H
END:VEVENT
END:VCALENDAR
