BEGIN:VCALENDAR
VERSION:2.0
CALSCALE:GREGORIAN
PRODID:adamgibbons/ics
METHOD:PUBLISH
X-PUBLISHED-TTL:PT1H
BEGIN:VEVENT
UID:SK1dvreELxJTKi33cuUvL
SUMMARY:Concert i mitja ballada
DTSTAMP:20260423T145617Z
DTSTART:20241110T123000
DESCRIPTION:\nDescripció: Cobla Ciutat de Girona\nCobles: La Flama de Farne
	rs i La Principal de Tarragona
LOCATION:JAFRE
DURATION:PT2H
END:VEVENT
END:VCALENDAR
