BEGIN:VCALENDAR
VERSION:2.0
CALSCALE:GREGORIAN
PRODID:adamgibbons/ics
METHOD:PUBLISH
X-PUBLISHED-TTL:PT1H
BEGIN:VEVENT
UID:zZetkMG0jPSTTXcoS0yX7
SUMMARY:Concer de sardanes i música per cobla al Barradas
DTSTAMP:20260423T145619Z
DTSTART:20241201T180000
DESCRIPTION:\nDescripció: Cobla La Principal de la Bisbal\nCobles: La Flama
	 de Farners i La Principal de Tarragona
DURATION:PT2H
END:VEVENT
END:VCALENDAR
