BEGIN:VCALENDAR
VERSION:2.0
CALSCALE:GREGORIAN
PRODID:adamgibbons/ics
METHOD:PUBLISH
X-PUBLISHED-TTL:PT1H
BEGIN:VEVENT
UID:2q_ImFuXKH_bC7xFszsK-
SUMMARY:Concert de Nadal
DTSTAMP:20260423T145441Z
DTSTART:20241222T183000
DESCRIPTION:\nDescripció: Cobles Montgrins i Principal del Llobregat\nCoble
	s: La Flama de Farners i La Principal de Tarragona
LOCATION:CALELLA
DURATION:PT2H
END:VEVENT
END:VCALENDAR
