BEGIN:VCALENDAR
VERSION:2.0
CALSCALE:GREGORIAN
PRODID:adamgibbons/ics
METHOD:PUBLISH
X-PUBLISHED-TTL:PT1H
BEGIN:VEVENT
UID:Jl9to3_7bRVUW2u3dKxNI
SUMMARY:Ballada
DTSTAMP:20260423T145757Z
DTSTART:20241212T120000
DESCRIPTION:\nDescripció: Cobla Reus Jove\nCobles: \, Ciutat de Cornellà\, 
	Reus Jove i Conjunt
LOCATION:REUS
DURATION:PT2H
END:VEVENT
END:VCALENDAR
