BEGIN:VCALENDAR
VERSION:2.0
CALSCALE:GREGORIAN
PRODID:adamgibbons/ics
METHOD:PUBLISH
X-PUBLISHED-TTL:PT1H
BEGIN:VEVENT
UID:uOkqtuKd1_nbfTIjtEkLY
SUMMARY:Ballada de Nadal
DTSTAMP:20260423T145710Z
DTSTART:20241215T113000
DESCRIPTION:\nDescripció: Cobla Selvatana\nCobles: La Flama de Farners i La
	 Principal de Tarragona
LOCATION:GIRONA
DURATION:PT2H
END:VEVENT
END:VCALENDAR
