BEGIN:VCALENDAR
VERSION:2.0
CALSCALE:GREGORIAN
PRODID:adamgibbons/ics
METHOD:PUBLISH
X-PUBLISHED-TTL:PT1H
BEGIN:VEVENT
UID:qrwgwTlL2A09taoXA5xNU
SUMMARY:Doble ballada
DTSTAMP:20260423T145613Z
DTSTART:20250202T163000
DESCRIPTION:\nDescripció: Cobles Principal del Llobregat i Ciutat de Girona
	\nCobles: La Flama de Farners i La Principal de Tarragona
LOCATION:SILS
DURATION:PT2H
END:VEVENT
END:VCALENDAR
