BEGIN:VCALENDAR
VERSION:2.0
CALSCALE:GREGORIAN
PRODID:adamgibbons/ics
METHOD:PUBLISH
X-PUBLISHED-TTL:PT1H
BEGIN:VEVENT
UID:K61BQH7pGLSjWc_gLq9me
SUMMARY:Concert - Grans conjunts
DTSTAMP:20260423T145755Z
DTSTART:20250120T190000
DESCRIPTION:\nDescripció: Cobla d'alumnes de l'ESMUC\nCobles: La Flama de F
	arners i La Principal de Tarragona
LOCATION:BARCELONA
DURATION:PT2H
END:VEVENT
END:VCALENDAR
