BEGIN:VCALENDAR
VERSION:2.0
CALSCALE:GREGORIAN
PRODID:adamgibbons/ics
METHOD:PUBLISH
X-PUBLISHED-TTL:PT1H
BEGIN:VEVENT
UID:F7YIQnsTerl7v0KXd_um_
SUMMARY:Ballada - Festa Major d'Hivern
DTSTAMP:20260423T145707Z
DTSTART:20250126T110000
DESCRIPTION:\nDescripció: Cobla Principal del Llobregat\nCobles: La Flama d
	e Farners i La Principal de Tarragona
LOCATION:PARETS DEL VALLÈS
DURATION:PT2H
END:VEVENT
END:VCALENDAR
