BEGIN:VCALENDAR
VERSION:2.0
CALSCALE:GREGORIAN
PRODID:adamgibbons/ics
METHOD:PUBLISH
X-PUBLISHED-TTL:PT1H
BEGIN:VEVENT
UID:AQMqFWbEqsFfIz5bGpQqp
SUMMARY:Ballada
DTSTAMP:20260423T145618Z
DTSTART:20250202T113000
DESCRIPTION:\nDescripció: Cobla Jovenívola de Sabadell\nCobles: La Flama de
	 Farners i La Principal de Tarragona
LOCATION:BARCELONA
DURATION:PT2H
END:VEVENT
END:VCALENDAR
