BEGIN:VCALENDAR
VERSION:2.0
CALSCALE:GREGORIAN
PRODID:adamgibbons/ics
METHOD:PUBLISH
X-PUBLISHED-TTL:PT1H
BEGIN:VEVENT
UID:0UY-hSTjZd_CUQiN6dDZp
SUMMARY:Ballada
DTSTAMP:20260423T150353Z
DTSTART:20250308T110000
DESCRIPTION:\nDescripció: Cobla Marinada\nCobles: Ciutat de Terrassa i La F
	lama de Farners
LOCATION:BARCELONA
DURATION:PT2H
END:VEVENT
END:VCALENDAR
