BEGIN:VCALENDAR
VERSION:2.0
CALSCALE:GREGORIAN
PRODID:adamgibbons/ics
METHOD:PUBLISH
X-PUBLISHED-TTL:PT1H
BEGIN:VEVENT
UID:NnQ6de6SJy2k8sBFoLvDr
SUMMARY:Aplec de Vilassar de Dalt
DTSTAMP:20260423T150327Z
DTSTART:20250609T110000
DESCRIPTION:\nDescripció: Cobles La Principal de la Bisbal i Principal del 
	Llobregat\nCobles: \, Ciutat de Cornellà\, Reus Jove i Conjunt
LOCATION:VILASSAR DE DALT
DURATION:PT2H
END:VEVENT
END:VCALENDAR
