BEGIN:VCALENDAR
VERSION:2.0
CALSCALE:GREGORIAN
PRODID:adamgibbons/ics
METHOD:PUBLISH
X-PUBLISHED-TTL:PT1H
BEGIN:VEVENT
UID:XSCFFpi9k6E4yQnW7HJCm
SUMMARY:Doble ballada - Diada del Soci
DTSTAMP:20260423T150358Z
DTSTART:20250209T163000
DESCRIPTION:\nDescripció: Cobla de l'Escola Municipal Conrad Saló i Princip
	al del Llobregat\nCobles: Ciutat de Terrassa i La Flama de Farners
DURATION:PT2H
END:VEVENT
END:VCALENDAR
