BEGIN:VCALENDAR
VERSION:2.0
CALSCALE:GREGORIAN
PRODID:adamgibbons/ics
METHOD:PUBLISH
X-PUBLISHED-TTL:PT1H
BEGIN:VEVENT
UID:v0mEXeB8ULKy7B0zUNH8z
SUMMARY:Concert de Nadal
DTSTAMP:20260423T145611Z
DTSTART:20241221T180000
DESCRIPTION:\nDescripció: Cobla Mil·lenària\nCobles: La Flama de Farners i 
	La Principal de Tarragona
DURATION:PT2H
END:VEVENT
END:VCALENDAR
