BEGIN:VCALENDAR
VERSION:2.0
CALSCALE:GREGORIAN
PRODID:adamgibbons/ics
METHOD:PUBLISH
X-PUBLISHED-TTL:PT1H
BEGIN:VEVENT
UID:ao3yWxd2n2aKmCGwjWGt8
SUMMARY:Ballada
DTSTAMP:20260423T145049Z
DTSTART:20250518T120000
DESCRIPTION:\nDescripció: Cobla Baix Empordà\nCobles: \, Ciutat de Cornellà
	\, Reus Jove i Conjunt
LOCATION:PALAMÓS
DURATION:PT2H
END:VEVENT
END:VCALENDAR
