BEGIN:VCALENDAR
VERSION:2.0
CALSCALE:GREGORIAN
PRODID:adamgibbons/ics
METHOD:PUBLISH
X-PUBLISHED-TTL:PT1H
BEGIN:VEVENT
UID:GCITiMnDLt3kHpxsbkaLv
SUMMARY:Ballada
DTSTAMP:20260423T145525Z
DTSTART:20250209T113000
DESCRIPTION:\nDescripció: Cobla Baix Llobregat\nCobles: \, Ciutat de Cornel
	là\, Reus Jove i Conjunt
LOCATION:BARCELONA
DURATION:PT2H
END:VEVENT
END:VCALENDAR
