BEGIN:VCALENDAR
VERSION:2.0
CALSCALE:GREGORIAN
PRODID:adamgibbons/ics
METHOD:PUBLISH
X-PUBLISHED-TTL:PT1H
BEGIN:VEVENT
UID:rNSWn90U3sbX-NJXi25dD
SUMMARY:Ballada - Dia de la Dona
DTSTAMP:20260423T145831Z
DTSTART:20250322T113000
DESCRIPTION:\nDescripció: Cobla Principal de Banyoles\nCobles: \, Ciutat de
	 Cornellà\, Reus Jove i Conjunt
LOCATION:FIGUERES
DURATION:PT2H
END:VEVENT
END:VCALENDAR
