BEGIN:VCALENDAR
VERSION:2.0
CALSCALE:GREGORIAN
PRODID:adamgibbons/ics
METHOD:PUBLISH
X-PUBLISHED-TTL:PT1H
BEGIN:VEVENT
UID:WS3ZNT6gvG5ySVO-1i6E3
SUMMARY:Concert - El llegat musical de Joan Carreras
DTSTAMP:20260423T145618Z
DTSTART:20250222T200000
DESCRIPTION:\nDescripció: Cobla Ciutat de Girona\nCobles: \, Ciutat de Corn
	ellà\, Reus Jove i Conjunt
LOCATION:GIRONA
DURATION:PT2H
END:VEVENT
END:VCALENDAR
