BEGIN:VCALENDAR
VERSION:2.0
CALSCALE:GREGORIAN
PRODID:adamgibbons/ics
METHOD:PUBLISH
X-PUBLISHED-TTL:PT1H
BEGIN:VEVENT
UID:vgr9HXBuLGHU1kf1GriUm
SUMMARY:Aplec de la Gleva
DTSTAMP:20260423T145611Z
DTSTART:20250624T170000
DESCRIPTION:\nDescripció: Cobles Principal del Llobregat i Ciutat de Girona
	\nCobles: \, Ciutat de Cornellà\, Reus Jove i Conjunt
LOCATION:LES MASIES DE VOLTREGÀ
DURATION:PT2H
END:VEVENT
END:VCALENDAR
