BEGIN:VCALENDAR
VERSION:2.0
CALSCALE:GREGORIAN
PRODID:adamgibbons/ics
METHOD:PUBLISH
X-PUBLISHED-TTL:PT1H
BEGIN:VEVENT
UID:qwB-jkUtyBO3CQxJQQJuh
SUMMARY:Sardanes d'hivern
DTSTAMP:20260423T145807Z
DTSTART:20250511T113000
DESCRIPTION:\nDescripció: Cobla Principal de Banyoles\nCobles: \, Ciutat de
	 Cornellà\, Reus Jove i Conjunt
LOCATION:PALAFRUGELL
DURATION:PT2H
END:VEVENT
END:VCALENDAR
