BEGIN:VCALENDAR
VERSION:2.0
CALSCALE:GREGORIAN
PRODID:adamgibbons/ics
METHOD:PUBLISH
X-PUBLISHED-TTL:PT1H
BEGIN:VEVENT
UID:vuvfJabx5IfwAwBszjKFo
SUMMARY:Ballada
DTSTAMP:20260423T145052Z
DTSTART:20250330T190000
DESCRIPTION:\nDescripció: Cobla Vila d'Olesa\nCobles: La Principal de Tarra
	gona i Ciutat de Girona
LOCATION:OLESA DE MONTSERRAT
DURATION:PT2H
END:VEVENT
END:VCALENDAR
