BEGIN:VCALENDAR
VERSION:2.0
CALSCALE:GREGORIAN
PRODID:adamgibbons/ics
METHOD:PUBLISH
X-PUBLISHED-TTL:PT1H
BEGIN:VEVENT
UID:MliOrYauWy1IzQYBvQZS2
SUMMARY:Ballada
DTSTAMP:20260423T145151Z
DTSTART:20250501T163000
DESCRIPTION:\nDescripció: Cobla Bisbal Jove\nCobles: La Principal de Tarrag
	ona i Ciutat de Girona
LOCATION:LES MASIES DE RODA
DURATION:PT2H
END:VEVENT
END:VCALENDAR
