BEGIN:VCALENDAR
VERSION:2.0
CALSCALE:GREGORIAN
PRODID:adamgibbons/ics
METHOD:PUBLISH
X-PUBLISHED-TTL:PT1H
BEGIN:VEVENT
UID:6lc20FerMhYH9XYa1c9hP
SUMMARY:Ballada - Cloenda dels cursets
DTSTAMP:20260423T145658Z
DTSTART:20250406T113000
DESCRIPTION:\nDescripció: Cobla Contemporània\nCobles: La Flama de Farners 
	i La Principal de Tarragona
DURATION:PT2H
END:VEVENT
END:VCALENDAR
