BEGIN:VCALENDAR
VERSION:2.0
CALSCALE:GREGORIAN
PRODID:adamgibbons/ics
METHOD:PUBLISH
X-PUBLISHED-TTL:PT1H
BEGIN:VEVENT
UID:Kh5YsUErnNFSqNASzltfB
SUMMARY:Ballada
DTSTAMP:20260423T145052Z
DTSTART:20250330T120000
DESCRIPTION:\nDescripció: Cobla Maricel\nCobles: La Principal de Tarragona 
	i Ciutat de Girona
LOCATION:SITGES
DURATION:PT2H
END:VEVENT
END:VCALENDAR
