BEGIN:VCALENDAR
VERSION:2.0
CALSCALE:GREGORIAN
PRODID:adamgibbons/ics
METHOD:PUBLISH
X-PUBLISHED-TTL:PT1H
BEGIN:VEVENT
UID:RaijmiNolrEx1uitUjMAg
SUMMARY:Ballada
DTSTAMP:20260423T145151Z
DTSTART:20250420T120000
DESCRIPTION:\nDescripció: Cobla Principal del Llobregat\nCobles: La Princip
	al de Tarragona i Ciutat de Girona
LOCATION:CALELLA
DURATION:PT2H
END:VEVENT
END:VCALENDAR
