BEGIN:VCALENDAR
VERSION:2.0
CALSCALE:GREGORIAN
PRODID:adamgibbons/ics
METHOD:PUBLISH
X-PUBLISHED-TTL:PT1H
BEGIN:VEVENT
UID:SdkkTa8nWnTXAa12y6VoF
SUMMARY:Ballada - SardaCaldes
DTSTAMP:20260423T145353Z
DTSTART:20250330T180000
DESCRIPTION:\nDescripció: Cobla Conrad Saló\nCobles: \, Ciutat de Cornellà\
	, Reus Jove i Conjunt
LOCATION:CALDES DE MONTBUI
DURATION:PT2H
END:VEVENT
END:VCALENDAR
