BEGIN:VCALENDAR
VERSION:2.0
CALSCALE:GREGORIAN
PRODID:adamgibbons/ics
METHOD:PUBLISH
X-PUBLISHED-TTL:PT1H
BEGIN:VEVENT
UID:eM2mriwgRSvrDlo59GC08
SUMMARY:Ballada - Festes de Sant Jordi i Mare de Déu de Montserrat
DTSTAMP:20260423T145522Z
DTSTART:20250426T120000
DESCRIPTION:\nDescripció: Cobla Jovenívola de Sabadell\nCobles: \, Ciutat d
	e Cornellà\, Reus Jove i Conjunt
LOCATION:TORRELAVIT
DURATION:PT2H
END:VEVENT
END:VCALENDAR
