BEGIN:VCALENDAR
VERSION:2.0
CALSCALE:GREGORIAN
PRODID:adamgibbons/ics
METHOD:PUBLISH
X-PUBLISHED-TTL:PT1H
BEGIN:VEVENT
UID:rs5YMt85ppg9xh-iI_o1f
SUMMARY:Ballada - Festa de germanor
DTSTAMP:20260423T145159Z
DTSTART:20250427T120000
DESCRIPTION:\nDescripció: Cobla Osona\nCobles: \, Ciutat de Cornellà\, Reus
	 Jove i Conjunt
LOCATION:MARTORELLES
DURATION:PT2H
END:VEVENT
END:VCALENDAR
