BEGIN:VCALENDAR
VERSION:2.0
CALSCALE:GREGORIAN
PRODID:adamgibbons/ics
METHOD:PUBLISH
X-PUBLISHED-TTL:PT1H
BEGIN:VEVENT
UID:HUYufSGTlA1hFmh5-5j4g
SUMMARY:Aplec Maria Sabatera de Palafolls
DTSTAMP:20260423T145701Z
DTSTART:20250405T103000
DESCRIPTION:\nDescripció: Cobla Palafolls i Principal de Banyoles\nCobles: 
	La Flama de Farners i La Principal de Tarragona
LOCATION:PALAFOLLS
DURATION:PT2H
END:VEVENT
END:VCALENDAR
