BEGIN:VCALENDAR
VERSION:2.0
CALSCALE:GREGORIAN
PRODID:adamgibbons/ics
METHOD:PUBLISH
X-PUBLISHED-TTL:PT1H
BEGIN:VEVENT
UID:52xEfX-76h7asYjqf5mgN
SUMMARY:Aplec de la Nou de Già
DTSTAMP:20260423T145809Z
DTSTART:20250406T120000
DESCRIPTION:\nDescripció: Cobles Reus Jove i Cossetània\nCobles: La Flama d
	e Farners i La Principal de Tarragona
LOCATION:LA NOU DE GAIÀ
DURATION:PT2H
END:VEVENT
END:VCALENDAR
