BEGIN:VCALENDAR
VERSION:2.0
CALSCALE:GREGORIAN
PRODID:adamgibbons/ics
METHOD:PUBLISH
X-PUBLISHED-TTL:PT1H
BEGIN:VEVENT
UID:4f7oxq_w7p1VhKcF8D02_
SUMMARY:Ballada - Pratifolk
DTSTAMP:20260423T145444Z
DTSTART:20250510T123000
DESCRIPTION:\nDescripció: Lluïsos Cobla\nCobles: La Flama de Farners i La P
	rincipal de Tarragona
LOCATION:EL PRAT DE LLOBREGAT
DURATION:PT2H
END:VEVENT
END:VCALENDAR
