BEGIN:VCALENDAR
VERSION:2.0
CALSCALE:GREGORIAN
PRODID:adamgibbons/ics
METHOD:PUBLISH
X-PUBLISHED-TTL:PT1H
BEGIN:VEVENT
UID:90nkCpD2m2Y5jKDe7M6zH
SUMMARY:Ballada - 150 anys de Pep Ventura
DTSTAMP:20260423T145201Z
DTSTART:20250323T113000
DESCRIPTION:\nDescripció: Cobla Rossinyolets\nCobles: \, Ciutat de Cornellà
	\, Reus Jove i Conjunt
LOCATION:FIGUERES
DURATION:PT2H
END:VEVENT
END:VCALENDAR
