BEGIN:VCALENDAR
VERSION:2.0
CALSCALE:GREGORIAN
PRODID:adamgibbons/ics
METHOD:PUBLISH
X-PUBLISHED-TTL:PT1H
BEGIN:VEVENT
UID:niepyZkP9ZAqn-BH4xYbr
SUMMARY:Ballada - Ofrenes a Vallcanera
DTSTAMP:20260423T145831Z
DTSTART:20250406T180000
DESCRIPTION:\nDescripció: Cobla Bisbal Jove\nCobles: \, Ciutat de Cornellà\
	, Reus Jove i Conjunt
LOCATION:SILS
DURATION:PT2H
END:VEVENT
END:VCALENDAR
