BEGIN:VCALENDAR
VERSION:2.0
CALSCALE:GREGORIAN
PRODID:adamgibbons/ics
METHOD:PUBLISH
X-PUBLISHED-TTL:PT1H
BEGIN:VEVENT
UID:LsZqY-KpS0mklZDySkLfM
SUMMARY:Ballada
DTSTAMP:20260423T145758Z
DTSTART:20250316T113000
DESCRIPTION:\nDescripció: Cobla Sabadell\nCobles: \, Ciutat de Cornellà\, R
	eus Jove i Conjunt
LOCATION:BADALONA
DURATION:PT2H
END:VEVENT
END:VCALENDAR
