BEGIN:VCALENDAR
VERSION:2.0
CALSCALE:GREGORIAN
PRODID:adamgibbons/ics
METHOD:PUBLISH
X-PUBLISHED-TTL:PT1H
BEGIN:VEVENT
UID:pU99qWq6V7eAjC9J_wA6L
SUMMARY:Ballada - Diada de Sant Jordi
DTSTAMP:20260423T145053Z
DTSTART:20250420T110000
DESCRIPTION:\nDescripció: Cobla Xaloc\nCobles: La Principal de Tarragona i 
	Ciutat de Girona
LOCATION:LES FRANQUESES DEL VALLÈS
DURATION:PT2H
END:VEVENT
END:VCALENDAR
