BEGIN:VCALENDAR
VERSION:2.0
CALSCALE:GREGORIAN
PRODID:adamgibbons/ics
METHOD:PUBLISH
X-PUBLISHED-TTL:PT1H
BEGIN:VEVENT
UID:uiQFuRhZxhDqn5JxXg-x7
SUMMARY:Ballada - Diada de Sant Jordi
DTSTAMP:20260423T145708Z
DTSTART:20250423T183000
DESCRIPTION:\nDescripció: Cobla Ciutat de Granollers\nCobles: La Flama de F
	arners i La Principal de Tarragona
LOCATION:GRANOLLERS
DURATION:PT2H
END:VEVENT
END:VCALENDAR
