BEGIN:VCALENDAR
VERSION:2.0
CALSCALE:GREGORIAN
PRODID:adamgibbons/ics
METHOD:PUBLISH
X-PUBLISHED-TTL:PT1H
BEGIN:VEVENT
UID:dC4CZt-dafaiRJjxVzL-i
SUMMARY:Ballada - Aplec Pedracastell
DTSTAMP:20260423T145830Z
DTSTART:20250501T120000
DESCRIPTION:\nDescripció: Cobla Sabadell\nCobles: Ciutat de Terrassa i La F
	lama de Farners
LOCATION:CANET DE MAR
DURATION:PT2H
END:VEVENT
END:VCALENDAR
