BEGIN:VCALENDAR
VERSION:2.0
CALSCALE:GREGORIAN
PRODID:adamgibbons/ics
METHOD:PUBLISH
X-PUBLISHED-TTL:PT1H
BEGIN:VEVENT
UID:JT5ujPjc2nQnM1nL9hbQ2
SUMMARY:Ballada - Aplec de Sant Sebastià de Montmajor
DTSTAMP:20260423T145701Z
DTSTART:20250501T120000
DESCRIPTION:\nDescripció: Cobla Osona\nCobles: \, Ciutat de Cornellà\, Reus
	 Jove i Conjunt
LOCATION:CALDES DE MONTBUI
DURATION:PT2H
END:VEVENT
END:VCALENDAR
